BEGIN:VCALENDAR
VERSION:2.0
PRODID:-//CICA - ECPv6.14.2//NONSGML v1.0//EN
CALSCALE:GREGORIAN
METHOD:PUBLISH
X-ORIGINAL-URL:https://www.cicavda.com.ar
X-WR-CALDESC:Eventos para CICA
REFRESH-INTERVAL;VALUE=DURATION:PT1H
X-Robots-Tag:noindex
X-PUBLISHED-TTL:PT1H
BEGIN:VTIMEZONE
TZID:America/Argentina/Buenos_Aires
BEGIN:STANDARD
TZOFFSETFROM:-0300
TZOFFSETTO:-0300
TZNAME:-03
DTSTART:20180101T000000
END:STANDARD
END:VTIMEZONE
BEGIN:VEVENT
DTSTART;TZID=America/Argentina/Buenos_Aires:20180703T133000
DTEND;TZID=America/Argentina/Buenos_Aires:20180704T163000
DTSTAMP:20260423T112550
CREATED:20180531T232858Z
LAST-MODIFIED:20180627T131513Z
UID:1133-1530624600-1530721800@www.cicavda.com.ar
SUMMARY:Seminario: Comunicaciones Integradas de Marketing
DESCRIPTION:La comunicación\, habilidad natural de las personas\, se ha profesionalizado en los últimos años a través de herramientas que potencian el crecimiento de los emprendimientos y las PYMES. \nEstas herramientas necesitan de su entendimiento y correcta aplicación para que esa idea\, que hoy se convierte en un negocio\, se potente\, memorable\, única y diferenciada. \n\n\nObjetivo general:\nLograr que los estudiantes dispongan de las herramientas necesarias para planificar y ejecutar un plan de comunicaciones\, de forma estratégica y efectiva para sus Pymes o emprendimientos.\n\nObjetivos específicos:\nLos estudiantes deberán saber cómo:\n\nArmar y ejecutar un plan de comunicaciones integradas.\nDominar las herramientas de comunicación.\nConocer y profundizar el análisis y conocimiento del consumidor / cliente para desarrollar estrategias de contacto efectivas.\n\n\nContenidos:\nEl seminario es un recorrido través de los recursos que sirven a quien necesita comunicar un producto o servicio a su público objetivo. No debemos olvidar que estas herramientas deben estar en función de brindar soluciones a desafíos de negocios. \n\nDisertante: Daniel Carballo\n\nDías y hora: martes 3 y miércoles 4 de julio de 2018 de 13:30 a 16:30 h\n\nCostos:\nSocios $400\nParticulares $700\nEstudiantes $200 (con constancia de alumno regular)\n¡CUPOS LIMITADOS! \nInscripciones y consultas al 481444 o 482523\, por email a contacto@cicavda.com.ar o en nuestra sede.
URL:https://www.cicavda.com.ar/evento/seminario-como-comunicar-de-manera-exitosa-productos-de-una-pyme/
LOCATION:CICA – Sede del Centro Industrial y Comercial Avellaneda\, Calle 14 671\, Avellaneda\, Santa Fe\, 3561\, Argentina
CATEGORIES:Capacitaciones
ATTACH;FMTTYPE=image/jpeg:https://www.cicavda.com.ar/wp-content/uploads/2018/06/marketing-y-comunicación.jpg
ORGANIZER;CN="CICA - Centro Industrial y Comercial Avellaneda":MAILTO:contacto@cicavda.com.ar
END:VEVENT
BEGIN:VEVENT
DTSTART;TZID=America/Argentina/Buenos_Aires:20180719T133000
DTEND;TZID=America/Argentina/Buenos_Aires:20180720T163000
DTSTAMP:20260423T112550
CREATED:20180628T142433Z
LAST-MODIFIED:20180702T212131Z
UID:1190-1532007000-1532104200@www.cicavda.com.ar
SUMMARY:Seminario: Técnicas de Ventas
DESCRIPTION:  \nLas ventas son el resultado de una interacción entre clientes y colaboradores de una determinada empresa\, sustentados por todo un proceso de atención y servicio. En este seminario nos vamos a enfocar en las técnicas de ventas para que en dicha interrelación exista la percepción de valor agregado en función de las necesidades específicas. \nEl vendedor ejerce distintos roles que son el resultado de la aplicación de diversas herramientas comunicacionales\, argumentales\, de análisis y gestuales. El seminario está enfocado a la puesta en práctica inmediata de dichas herramientas y a su vez para que usted pueda transmitir a otros estas formas de interacción. \nMas allá del proceso tradicional que se estudia desde que uno toma contacto con el cliente\, detecta las necesidades\, argumenta objeciones y cierra la venta\, se toman en cuenta aquellos factores que hacen a la comunicación más precisa; sobre qué conviene decir y en qué circunstancia y qué cosas no deben decirse. \nOtro de los aspectos importantes es que se hace especial énfasis en las significaciones de los productos\, no es solamente las determinadas características de los productos\, lo que vende sino lo que refleja a determinada persona en determinada situación ese producto\, es decir uno no vende taladros sino “agujeros”. \nEste seminario le va a permitir ver las interacciones de venta de forma más completa de modo que uno es al mismo tiempo un explorador de oportunidades\, un analista\, un asesor\, un sicólogo\, un relacionista público y un operario eficaz. La venta es un proceso individualizado\, cada persona es un mundo distinto con distintas necesidades y situaciones. Esperamos que este seminario taller le permita ajustar detalles para que no solo venda productos sino imagen institucional. \n  \nObjetivos  \nQue los participantes puedan tener cubiertos los conceptos más relevantes de la venta en el marco de un proceso previo y posterior para administrar los niveles de satisfacción de los clientes. \nRespecto a lo comportamental\, si bien no se pretende lograr “cambios” a este nivel en un seminario\, sí es posible que los participantes detecten sus puntos débiles y cuenten con guías de trabajo para mejorar habilidades o competencias. \nEn cuanto a los objetivos propios de la dinámica de trabajo\, se les solicita dedicación\, compromiso y participación a fin de que todos se vean enriquecidos por las experiencias de los otros. \n  \nMetodología  \nEl seminario tendrá un formato equilibrado para que los conceptos aprendidos se hagan visibles con ejemplos\, debates y talleres de trabajo. Se trabaja mediante exposiciones con soportes visuales en “power point”\, con el uso de rotafolios o pizarra para todo lo conceptual. Para los talleres se trabaja con una batería de opciones desde consignas de trabajo grupales\, juegos\, conclusiones de videos\, etcétera. \n  \nTemario  \nSesión 1  \n\n¿Qué es vender? La interrelación sujeto y objeto. Necesidades y sus tipos. El intercambio.\nMecanismos de deseo y frustración. El aprendizaje y el deseo. Individuos\, personas\, sujetos\, compradores\, clientes\, usuarios y consumidores.\nLa interrelación\, base de la realidad social – comercial. La comunicación y los procesos de significados. La comunicación no verbal. Competencias comunicacionales.\n\nSesión 2  \n\nEstilos comunicacionales.\nLa cultura organizacional y sus implicancias. Elementos que conforman una sana cultura empresarial para lograr el éxito del negocio.\nTécnicas asociadas al acto de venta. Técnicas indagatorias. Técnicas observacionales.\n\n  \nDisertante: Daniel Carballo\n\nCostos:\nSocios $400\nParticulares $700\nEstudiantes $200 (con constancia de alumno regular)\n  \n¡CUPOS LIMITADOS! \nInscripciones y consultas al 481444 o 482523\, por email a contacto@cicavda.com.ar o en nuestra sede.
URL:https://www.cicavda.com.ar/evento/seminario-tecnicas-de-ventas/
LOCATION:CICA – Sede del Centro Industrial y Comercial Avellaneda\, Calle 14 671\, Avellaneda\, Santa Fe\, 3561\, Argentina
CATEGORIES:Capacitaciones
ATTACH;FMTTYPE=image/jpeg:https://www.cicavda.com.ar/wp-content/uploads/2018/06/ventas.jpg
ORGANIZER;CN="CICA - Centro Industrial y Comercial Avellaneda":MAILTO:contacto@cicavda.com.ar
END:VEVENT
END:VCALENDAR