BEGIN:VCALENDAR
VERSION:2.0
PRODID:-//CICA - ECPv6.14.2//NONSGML v1.0//EN
CALSCALE:GREGORIAN
METHOD:PUBLISH
X-WR-CALNAME:CICA
X-ORIGINAL-URL:http://www.cicavda.com.ar
X-WR-CALDESC:Eventos para CICA
REFRESH-INTERVAL;VALUE=DURATION:PT1H
X-Robots-Tag:noindex
X-PUBLISHED-TTL:PT1H
BEGIN:VTIMEZONE
TZID:America/Argentina/Buenos_Aires
BEGIN:STANDARD
TZOFFSETFROM:-0300
TZOFFSETTO:-0300
TZNAME:-03
DTSTART:20170101T000000
END:STANDARD
END:VTIMEZONE
BEGIN:VEVENT
DTSTART;VALUE=DATE:20170511
DTEND;VALUE=DATE:20170513
DTSTAMP:20260420T041428
CREATED:20180409T122521Z
LAST-MODIFIED:20180409T122521Z
UID:957-1494460800-1494633599@www.cicavda.com.ar
SUMMARY:Seminario "Estrategias y técnicas de fidelización de clientes"
DESCRIPTION:¿Puede una empresa fidelizar y retener a sus mejores clientes\, haciéndoles olvidar la competencia? \nDisertante: Carina Lorena Lowenstein \nOBJETIVOS: \n\nEl seminario se propone sensibilizar acerca del valor del cliente\, la información que el mismo trae consigo para explotar nuevas oportunidades de negocios.\nMostrar los beneficios de implementar actividades sencillas y efectivas de relacionamiento sistemático con el cliente.\n\nDías:  11 y 12 de mayo de 2017 \nHorario: de 13.30 a 16:30 horas. \nLugar: CICA Calle 14 Nº 671 \nTeléfonos: 481444/482523 \nCostos: Socios $ 200 \nParticulares $ 400 \nEstudiantes $ 50
URL:http://www.cicavda.com.ar/evento/seminario-estrategias-y-tecnicas-de-fidelizacion-de-clientes/
LOCATION:CICA – Sede del Centro Industrial y Comercial Avellaneda\, Calle 14 671\, Avellaneda\, Santa Fe\, 3561\, Argentina
CATEGORIES:Capacitaciones
ATTACH;FMTTYPE=image/png:http://www.cicavda.com.ar/wp-content/uploads/2017/05/tecnicas-fidelizacion-de-clientes-ejemplos-MadridNYC.png
ORGANIZER;CN="CICA - Centro Industrial y Comercial Avellaneda":MAILTO:contacto@cicavda.com.ar
END:VEVENT
END:VCALENDAR