BEGIN:VCALENDAR
VERSION:2.0
PRODID:-//CICA - ECPv6.14.2//NONSGML v1.0//EN
CALSCALE:GREGORIAN
METHOD:PUBLISH
X-ORIGINAL-URL:http://www.cicavda.com.ar
X-WR-CALDESC:Eventos para CICA
REFRESH-INTERVAL;VALUE=DURATION:PT1H
X-Robots-Tag:noindex
X-PUBLISHED-TTL:PT1H
BEGIN:VTIMEZONE
TZID:America/Argentina/Buenos_Aires
BEGIN:STANDARD
TZOFFSETFROM:-0300
TZOFFSETTO:-0300
TZNAME:-03
DTSTART:20180101T000000
END:STANDARD
END:VTIMEZONE
BEGIN:VEVENT
DTSTART;TZID=America/Argentina/Buenos_Aires:20181123T130000
DTEND;TZID=America/Argentina/Buenos_Aires:20181123T130000
DTSTAMP:20260419T105547
CREATED:20181107T180054Z
LAST-MODIFIED:20181107T180914Z
UID:1679-1542978000-1542978000@www.cicavda.com.ar
SUMMARY:Emprender Nacional Corrientes 2018
DESCRIPTION:  \nEmprender Nacional Corrientes 2018 es un encuentro que tiene como objetivo motivar el emprendedorismo en los jóvenes de toda la nación\, contará con charlas inspiradoras y disertaciones especializadas tendientes a promover el espíritu creativo que genere proyectos innovadores. Se espera que más de 2000 jóvenes de entre 18 y 40 años y autoridades de relevancia participen de esta enriquecedora jornada. \nCabe destacar que el Emprender Nacional se realiza desde el año 2005 con la finalidad de fomentar la creación de nuevas empresas y fortalecer las ya existentes contribuyendo así al desarrollo de emprendedores con identidad nacional. \nQuienes estén interesados en viajar\, favor de comunicarse con la Secretaría del CICA: \nTel. 3482 481444 / 482523  |  Cel./WhatsApp 3482 405840  |  Email: contacto@cicavda.com.ar  |  Dirección: Calle 14 Nº671\, Avellaneda.
URL:http://www.cicavda.com.ar/evento/emprender-nacional-corrientes-2018/
LOCATION:Espacio Andes – Eventos & Convenciones\, Av. Maipú 3840\, Corrientes\, Corrientes\, Argentina
CATEGORIES:Encuentros
ATTACH;FMTTYPE=image/gif:http://www.cicavda.com.ar/wp-content/uploads/2018/11/EmprenderCOR.gif
ORGANIZER;CN="CAME - Confederacion Argentina de la Mediana Empresa":MAILTO:info@came.org.ar
END:VEVENT
END:VCALENDAR